BEGIN:VCALENDAR
PRODID:NingEventWidget-v1
VERSION:2.0
METHOD:PUBLISH
BEGIN:VEVENT
UID:4320450:Event:37079
DTSTAMP:20260425T173707Z
SUMMARY:Opening Party- States of Mind
DESCRIPTION:Join The Bazemore Gallery for the opening reception of the
 ir latest artist exhibition – “States of Mind” – by Ella Kolan
 owska. Kolanowska’s unique and remarkable artwork is an exploration 
 of our internal and external beings and will run from June 28, to Au
 gust 2, 2014. Light bites and refreshments will be served.\n \n\nFor 
 more information visit http://phillytodo.com/events/opening-party-stat
 es-of-mind
DTSTART:20140628T200000Z
DTEND:20140629T000000Z
CATEGORIES:art, exhibit
LOCATION:Bazemore Gallery
WEBSITE:https://www.facebook.com/events/901382406542461
URL:https://www.facebook.com/events/901382406542461
CONTACT:2156271060
ORGANIZER;CN=CashmanAssoc:http://phillytodo.com/profile/CashmanAssoc
ATTACH;FMTTYPE="image/jpeg":http://storage.ning.com/topology/rest/1.0/
 file/get/3054975678?profile=original
ATTENDEE;ROLE=REQ-PARTICIPANT;PARTSTAT=ACCEPTED;RSVP=TRUE;CN=CashmanAs
 soc:http://phillytodo.com/profile/CashmanAssoc
END:VEVENT
END:VCALENDAR
