BEGIN:VCALENDAR
PRODID:NingEventWidget-v1
VERSION:2.0
METHOD:PUBLISH
BEGIN:VEVENT
UID:4320450:Event:36664
DTSTAMP:20260425T174150Z
SUMMARY:Opening Night - James Brantley Exhibition \"Dreamscapes Concep
 tual Landscapes\"
DESCRIPTION:Celebrate the work of lifelong Philadelphian and revered a
 rtist James Brantley in his first solo exhibition since 2010. Brantley
 ’s works expresses a surreal style, bridging the gap between conscio
 us and unconscious thoughts, alluring his audience with a combination 
 of impressionistic and abstract designs.  Opening Night Reception Satu
 rday, May 17, 2014 4pm-8pm Refreshments and light bites will be served
 . RSVP to thebazemoregallery@gmail.com\n Exhibition runs May 17, 2014 
 – June 21, 2014.  www,thebazemoregallery.com\n\n\nFor more informati
 on visit http://phillytodo.com/events/opening-night-james-brantley-exh
 ibition-dreamscapes-conceptual
DTSTART:20140517T200000Z
DTEND:20140518T000000Z
CATEGORIES:reception, opening, night, art, exhibition
LOCATION:The Bazemore Gallery
WEBSITE:http://www.thebazemoregallery.com
URL:http://www.thebazemoregallery.com
CONTACT:
ORGANIZER;CN=CashmanAssoc:http://phillytodo.com/profile/CashmanAssoc
ATTACH;FMTTYPE="image/jpeg":http://storage.ning.com/topology/rest/1.0/
 file/get/3054973965?profile=original
ATTENDEE;ROLE=REQ-PARTICIPANT;PARTSTAT=ACCEPTED;RSVP=TRUE;CN=CashmanAs
 soc:http://phillytodo.com/profile/CashmanAssoc
END:VEVENT
END:VCALENDAR
