BEGIN:VCALENDAR
PRODID:NingEventWidget-v1
VERSION:2.0
METHOD:PUBLISH
BEGIN:VEVENT
UID:4320450:Event:2534
DTSTAMP:20260425T124920Z
SUMMARY:Open Studio: How Philly Moves
DESCRIPTION:The Mural Arts Program is pleased to join Philadelphia Ope
 n Studio Tours (POST) for this two-day public opportunity to observe l
 ead muralist Jon Laidacker and his team working on panels for How Phil
 ly Moves - an extraordinary new work of community-based public art tha
 t celebrates the joy of dance designed by JJ Tiziou for the exterior o
 f teh parking garages at Philadelphia International Airport.\n\nHow Ph
 illy Moves is sponsored by Philadelphia International Airport, Philade
 lphia Parking Authority, Bank of America, and US Airways.\n\nStudio sp
 ace at The Gallery at Market East donated by Pennsylvania Real Estate 
 Investment Trust (PREIT).\n\nPhiladelphia Open Studio Tours (POST) htt
 p://www.philaopenstudios.com/.\n\nHow Philly Moves http://www.howphill
 ymoves.org/blog/.\n\nFor more information visit http://phillytodo.com/
 events/open-studio-how-philly-moves
DTSTART:20101009T220000Z
DTEND:20101009T230000Z
CATEGORIES:open, studio
LOCATION:The Gallery at Market East
WEBSITE:
URL:
CONTACT:
ORGANIZER;CN="Jenn McCreary":http://phillytodo.com/profile/JennMcCrear
 y
ATTACH;FMTTYPE="image/jpeg":http://storage.ning.com/topology/rest/1.0/
 file/get/3054950756?profile=original
ATTENDEE;ROLE=REQ-PARTICIPANT;PARTSTAT=ACCEPTED;RSVP=TRUE;CN="Jenn McC
 reary":http://phillytodo.com/profile/JennMcCreary
END:VEVENT
END:VCALENDAR
