BEGIN:VCALENDAR
PRODID:NingEventWidget-v1
VERSION:2.0
METHOD:PUBLISH
BEGIN:VEVENT
UID:4320450:Event:40890
DTSTAMP:20260425T172228Z
SUMMARY:Open Spaces: An Art in the Open Exhibition
DESCRIPTION:Nine artists extend our art gallery on to the trails this 
 summer, with installations including string and ribbon sculptures whic
 h transform natural places and meditation shelters.  Each installatio
 n creates a new space to reflect on our relationship with the world ar
 ound us and opens up insights on the artistic process.  These works, 
 both indoors and on the trails, were created last May along the Schuyl
 kill Banks as part of Art in the Open, a public art program inspiring
  new ways of seeing the Schuylkill River and the city it runs through.
   During Art in the Open, artists spent three days creating works in 
 public, their creative process visible to the thousands who pass throu
 gh the Schuylkill Banks each day.  At the reception, we’ll offer ar
 tist talks and light refreshments in the gallery, along with a guided 
 walk to the outdoor installations.  Art in the Open is a citywide eve
 nt that celebrates artists, their inspirations for creating art, and t
 heir relationships with the urban environment.  Exhibition on view: J
 une 1 – July 25.\nOpen Spaces is the last in a series of Art in th
 e Open exhibitions held from summer 2014 through summer 2015 at the 
 Center for Emerging Visual Artists, theUniversity City Arts League, an
 d the Schuylkill Center.\n\nFor more information visit http://phillyto
 do.com/events/open-spaces-an-art-in-the-open-exhibition
DTSTART:20150616T220000Z
DTEND:20150617T000000Z
CATEGORIES:art, opening
LOCATION:Schuylkill Center for Environmental Education
WEBSITE:
URL:
CONTACT:215-482-7300, x110
ORGANIZER;CN="The Schuylkill Center":http://phillytodo.com/profile/Ann
 aLehrMueser
ATTACH;FMTTYPE="image/jpeg":http://storage.ning.com/topology/rest/1.0/
 file/get/3054988703?profile=original
ATTENDEE;ROLE=REQ-PARTICIPANT;PARTSTAT=ACCEPTED;RSVP=TRUE;CN="The Schu
 ylkill Center":http://phillytodo.com/profile/AnnaLehrMueser
END:VEVENT
END:VCALENDAR
