BEGIN:VCALENDAR
PRODID:NingEventWidget-v1
VERSION:2.0
METHOD:PUBLISH
BEGIN:VEVENT
UID:4320450:Event:60208
DTSTAMP:20260425T144622Z
SUMMARY:Open Rehearsal with duende, the Dr. R.J. Wallner, DanceVisions
  Residency Resident Artists
DESCRIPTION:Join duende, a new music and contemporary dance collective
 , for a behind the scenes look at a rehearsal process. duende's direct
 ors include choreographer Chloe Perkes, composer Alyssa Weinberg, and 
 cellist Gabriel Cabezas.\nduende is currently the Dr. R.J. Wallner Dan
 ceVisions Residency Resident Artist, and will premiere a new work at t
 he Performance Garage as part of the residency on August 28 and 29, 20
 20.\n\nFor more information visit http://phillytodo.com/events/open-re
 hearsal-with-duende-the-dr-r-j-wallner-dancevisions
DTSTART:20200305T230000Z
DTEND:20200306T003000Z
CATEGORIES:rehearsal
LOCATION:Performance Garage
WEBSITE:http://www.performancegarage.org/duende-open-rehearsal
URL:http://www.performancegarage.org/duende-open-rehearsal
CONTACT:215-569-4060
ORGANIZER;CN="Bryan Chan":http://phillytodo.com/profile/BryanChan
ATTACH;FMTTYPE="image/jpeg":
ATTENDEE;ROLE=REQ-PARTICIPANT;PARTSTAT=ACCEPTED;RSVP=TRUE;CN="Bryan Ch
 an":http://phillytodo.com/profile/BryanChan
END:VEVENT
END:VCALENDAR
