BEGIN:VCALENDAR
PRODID:NingEventWidget-v1
VERSION:2.0
METHOD:PUBLISH
BEGIN:VEVENT
UID:4320450:Event:27513
DTSTAMP:20260425T150055Z
SUMMARY:Open House at Merge Dance Studio
DESCRIPTION:Merge Dance Studio will be holding two open houses to allo
 w everyone to come in to see their space, learn more about their class
 es and to register for the fall session. The open houses will be on Sa
 turday, August 25, 2012 from 11:00am-3:00pm and Tuesday, August 28, 20
 12 from 5:00-8:00pm. Merge Dance Studio provides professional dance an
 d fitness instruction to all ages and skill levels in the Manayunk are
 a of Philadelphia, PA. Weekly classes are offered in creative movement
 , ballet, pointe, jazz, tap, modern/contemporary, musical theatre danc
 e, jazz funk/hip-hop, Piloxing® and Zumba®.\n\nFor more information 
 visit http://phillytodo.com/events/open-house-at-merge-dance-studio
DTSTART:20120825T150000Z
DTEND:20120825T190000Z
CATEGORIES:open, house
LOCATION:Merge Dance Studio
WEBSITE:http://www.mergedancestudio.com
URL:http://www.mergedancestudio.com
CONTACT:215-266-1311
ORGANIZER:Merge Dance Studio
ATTACH;FMTTYPE="image/jpeg":http://storage.ning.com/topology/rest/1.0/
 file/get/3054960714?profile=original
ATTENDEE;ROLE=REQ-PARTICIPANT;PARTSTAT=ACCEPTED;RSVP=TRUE;CN="Christa 
 Campbell":http://phillytodo.com/profile/ChristaCampbell
END:VEVENT
END:VCALENDAR
