BEGIN:VCALENDAR
PRODID:NingEventWidget-v1
VERSION:2.0
METHOD:PUBLISH
BEGIN:VEVENT
UID:4320450:Event:36987
DTSTAMP:20260425T142626Z
SUMMARY:Open House at Merge Dance Studio
DESCRIPTION:Merge Dance Studio, \"Where Dance and Fitness Merge, in Ma
 nayunk is holding two open houses to allow everyone to come in to see 
 their space, get fitted for and order dancewear, learn more about thei
 r classes, and to register for their summer and/or fall sessions. The 
 open houses will be on Thursday, June 19, 2014 and Wednesday, June 25,
  2014 from 5:00-8:00pm. You may also register at anytime by mailing in
  your registration form and tuition. At these open houses you will als
 o be able to check out D.Signs Activewear’s current style and color 
 options and try on samples of their designs. D.Signs Activewear is pas
 sionate about developing distinct handmade apparel for individuals wit
 h active lifestyles. They offer activewear that not only fits well and
  looks great but also makes you feel great about your body. Merge Danc
 e Studio provides professional dance and fitness instruction for ages 
 2 to adult and for all skill levels in the Manayunk area of Philadelph
 ia, PA. Weekly classes are offered in mommy/daddy & me, creative movem
 ent, ballet, pointe, jazz, tap, modern/contemporary, jazz funk/hip-hop
 , Piloxing®, BARRE Fusion, and Zumba®. For a complete class schedule
  and more information please visit www.mergedancestudio.com. For more 
 information about D.Signs Activewear please visit www.shopDsigns.com.\
 n\nFor more information visit http://phillytodo.com/events/open-house-
 at-merge-dance-studio-2
DTSTART:20140619T210000Z
DTEND:20140620T000000Z
CATEGORIES:open, house
LOCATION:Merge Dance Studio
WEBSITE:http://www.mergedancestudio.com
URL:http://www.mergedancestudio.com
CONTACT:215-266-1311
ORGANIZER;CN="Christa Campbell":http://phillytodo.com/profile/ChristaC
 ampbell
ATTACH;FMTTYPE="image/jpeg":http://storage.ning.com/topology/rest/1.0/
 file/get/3054975634?profile=original
ATTENDEE;ROLE=REQ-PARTICIPANT;PARTSTAT=ACCEPTED;RSVP=TRUE;CN="Christa 
 Campbell":http://phillytodo.com/profile/ChristaCampbell
END:VEVENT
END:VCALENDAR
