BEGIN:VCALENDAR
PRODID:NingEventWidget-v1
VERSION:2.0
METHOD:PUBLISH
BEGIN:VEVENT
UID:4320450:Event:34993
DTSTAMP:20260425T143006Z
SUMMARY:Open House and Registration for New Students at Merge Dance St
 udio
DESCRIPTION:Merge Dance Studio, \"Where Dance and Fitness Merge, in Ma
 nayunk is holding an open house to allow potential new students to com
 e in to see their space, get fitted for and order dancewear, learn mor
 e about their classes, and to register for their second session, which
  begins Dec. 2, 2013. The open house will be on Saturday, Nov. 23, 201
 3 from 2:00-4:00pm. You may also register at anytime by mailing in you
 r registration form and tuition. Merge Dance Studio provides professio
 nal dance and fitness instruction for ages 2 to adult and for all skil
 l levels in the Manayunk area of Philadelphia, PA. Weekly classes are 
 offered in mommy/daddy & me, creative movement, ballet, pointe, jazz, 
 tap, modern/contemporary, musical theatre dance, jazz funk/hip-hop, Pi
 loxing®, and Zumba®. For a complete class schedule and more informat
 ion please visit www.mergedancestudio.com.\n\nFor more information vis
 it http://phillytodo.com/events/open-house-and-registration-for-new-st
 udents-at-merge-dance
DTSTART:20131123T190000Z
DTEND:20131123T210000Z
CATEGORIES:open, house
LOCATION:Merge Dance Studio
WEBSITE:http://www.mergedancestudio.com
URL:http://www.mergedancestudio.com
CONTACT:215-266-1311
ORGANIZER;CN="Christa Campbell":http://phillytodo.com/profile/ChristaC
 ampbell
ATTACH;FMTTYPE="image/jpeg":http://storage.ning.com/topology/rest/1.0/
 file/get/3054965127?profile=original
ATTENDEE;ROLE=REQ-PARTICIPANT;PARTSTAT=ACCEPTED;RSVP=TRUE;CN="Christa 
 Campbell":http://phillytodo.com/profile/ChristaCampbell
END:VEVENT
END:VCALENDAR
