BEGIN:VCALENDAR
PRODID:NingEventWidget-v1
VERSION:2.0
METHOD:PUBLISH
BEGIN:VEVENT
UID:4320450:Event:29413
DTSTAMP:20260425T173508Z
SUMMARY:One Look Divas GayBINGO!
DESCRIPTION:Liz, Dolly, Marilyn... You get the idea! This fun event is
  open to anyone who enjoys campy humor. Cash prizes will be awarded in
  each game.  Tickets for GayBINGO are on sale at 215-731-9255.  Rese
 rved Seating tickets on the Bingo floor are $25. General admission tic
 kets in the balcony are $20.  The AIDS Fund grant program supports org
 anizations in the Philadelphia Region that provide AIDS and HIV-relate
 d services, education, and prevention including increasing public awar
 eness of HIV/AIDS issues.\n\nFor more information visit http://phillyt
 odo.com/events/one-look-divas-gaybingo
DTSTART:20130413T220000Z
DTEND:20130414T010000Z
CATEGORIES:bingo, fundraiser, lgbt
LOCATION:The Gershman Y
WEBSITE:http://www.aidsfundphilly.org
URL:http://www.aidsfundphilly.org
CONTACT:215-731-9255
ORGANIZER;CN="Cari Feiler Bender":http://phillytodo.com/profile/CariFe
 ilerBender
ATTACH;FMTTYPE="image/jpeg":http://storage.ning.com/topology/rest/1.0/
 file/get/3054961020?profile=original
ATTENDEE;ROLE=REQ-PARTICIPANT;PARTSTAT=ACCEPTED;RSVP=TRUE;CN="Cari Fei
 ler Bender":http://phillytodo.com/profile/CariFeilerBender
END:VEVENT
END:VCALENDAR
