BEGIN:VCALENDAR
PRODID:NingEventWidget-v1
VERSION:2.0
METHOD:PUBLISH
BEGIN:VEVENT
UID:4320450:Event:46610
DTSTAMP:20260425T125014Z
SUMMARY:One Liberty Observation Deck Tours
DESCRIPTION:One Liberty Observation Deck offers tours Mon-Fri at 11a.m
 . and 3p.m. and Sat. and Sun. at 11am, 1pm, and 3pm. free with admis
 sion. These 30-60 minute tours give visitors an overview of the iconic
  sights they are seeing from 57 floors above and expand on the music, 
 sports and culture that make up the City of Brotherly Love.\n \n*Tour
  times are subject to change. Please refer to the website www.phillyfr
 omthetop.com for the most current and up to date information.\n\n\nOne
  Liberty Observation Deck is open daily morning, noon and night. Visit
  www.phillyfromthetop.com for more details.\n\nFor more information vi
 sit http://phillytodo.com/events/one-liberty-observation-deck-tours
DTSTART:20160929T040000Z
DTEND:20161224T045900Z
CATEGORIES:deck, observatory
LOCATION:One Liberty Observation Deck
WEBSITE:https://www.phillyfromthetop.com/
URL:https://www.phillyfromthetop.com/
CONTACT:215.561.DECK (3325)
ORGANIZER:One Liberty Observation Deck
ATTACH;FMTTYPE="image/jpeg":http://storage.ning.com/topology/rest/1.0/
 file/get/3054995658?profile=original
ATTENDEE;ROLE=REQ-PARTICIPANT;PARTSTAT=ACCEPTED;RSVP=TRUE;CN=CashmanAs
 soc:http://phillytodo.com/profile/CashmanAssoc
END:VEVENT
END:VCALENDAR
