BEGIN:VCALENDAR
PRODID:NingEventWidget-v1
VERSION:2.0
METHOD:PUBLISH
BEGIN:VEVENT
UID:4320450:Event:36666
DTSTAMP:20260425T130558Z
SUMMARY:Once Upon A Nation Storytelling Benches
DESCRIPTION:Ten one-of-a-kind award-winning Once Upon A Nation Storyte
 lling Benches are scattered all over Philadelphiaâ€™s Historic Distric
 t, telling riveting stories of our nationâ€™s history in the places wh
 ere they actually happened.Â  Specially-trained, uniformed storyteller
 s delight and entertain with free, short 5-minute stories while sharin
 g the secrets of Philadelphiaâ€™s and Americaâ€™s history.Â  Children 
 can pick up a Story Flag at any storytelling bench, then collect a sta
 r from every storyteller on their journey.Â  Flags with all the stars 
 can be redeemed for a History Hero Certificate and a free carousel rid
 e on the Parx Liberty Carousel.\nMay 24 â€“ 26, Memorial Day Weekend: 
 11 am - 4 pm\nMay 30 â€“ June 7, Fridays and Saturdays: 11 am - 4 pm\n
 June 10 â€“ August 16, Tuesdays - Saturdays: 11 am - 4 pm\nAugust 22 â
 €“ 30, Fridays and Saturdays: 11 am - 4 pm\nAugust 31 & September 1: 1
 1 am - 4 pm\nThroughout Philadelphiaâ€™s Historic District, FREE\nThe 
 free storytelling benches will be at these 10 locations in the Histori
 c District:\n\nIndependence Visitor Center\nHistoric Philadelphia Cent
 er\nIndependence Square, behind Independence Hall\nSignersâ€™ Garden\n
 The ACE Charitable Foundation Storytelling Bench at Carpentersâ€™ Hall
 \nFranklin Court\nChrist Church\nBetsy Ross House\nThe Lincoln Financi
 al Storytelling Bench at the National Constitution Center\nWawa Storyt
 elling Bench in Franklin Square\n\n\nFor more information visit http:/
 /phillytodo.com/events/once-upon-a-nation-storytelling-benches-3
DTSTART:20140524T150000Z
DTEND:20140901T200000Z
CATEGORIES:storytelling
LOCATION:Historic Philadelphia Center
WEBSITE:http://www.historicphiladelphia.org
URL:http://www.historicphiladelphia.org
CONTACT:215-629-4026
ORGANIZER:
ATTACH;FMTTYPE="image/jpeg":
ATTENDEE;ROLE=REQ-PARTICIPANT;PARTSTAT=ACCEPTED;RSVP=TRUE;CN="Cari Fei
 ler Bender":http://phillytodo.com/profile/CariFeilerBender
END:VEVENT
END:VCALENDAR
