BEGIN:VCALENDAR
PRODID:NingEventWidget-v1
VERSION:2.0
METHOD:PUBLISH
BEGIN:VEVENT
UID:4320450:Event:32494
DTSTAMP:20260425T160911Z
SUMMARY:Once Upon A Nation Storytelling Benches
DESCRIPTION:Ten one-of-a-kind award-winning Once Upon A Nation Storyte
 lling Benches are scattered all over Philadelphia’s Historic Distric
 t, telling riveting stories of our nation’s history in the places wh
 ere they actually happened. Specially-trained, uniformed storytellers 
 delight and entertain with free, short 5-minute stories while sharing 
 the\nsecrets of Philadelphia’s and America’s history. Children can
  pick up a Story Flag at any storytelling bench, then collect a star f
 rom every storyteller on their journey. Flags with all the stars can b
 e redeemed at the Historic Philadelphia Center, Franklin Square, or th
 e Betsy Ross House for a History Hero Certificate and a free carousel 
 ride. \n\nSeptember 1 & 2: 11 am - 4 pm\n\n\n\nThroughout Philadelphi
 a’ s Historic District, FREE\n\n\n\nThe free storytelling benches wi
 ll be at these 10 locations in the Historic District:\n\nIndependence 
 Visitor Center\n\nHistoric Philadelphia Center\n\nIndependence Square,
  behind Independence Hall\n\nPNC Bank Storytelling Bench in Signers’
  Garden\n\nThe ACE Charitable Foundation Storytelling Bench at Carpent
 ers’ Hall\n\nFranklin Court\n\nChrist Church\n\nBetsy Ross House\n\n
 The Lincoln Storytelling Bench at the National Constitution Center\n\n
 Wawa Storytelling Bench in Franklin Square \n\n\n\n\n\n\n\n\n\n\n\n\n
 For more information visit http://phillytodo.com/events/once-upon-a-na
 tion-storytelling-benches-2
DTSTART:20130901T150000Z
DTEND:20130902T200000Z
CATEGORIES:storytelling
LOCATION:Throughout Philadelphia's Historic District
WEBSITE:http://www.historicphiladelphia.org
URL:http://www.historicphiladelphia.org
CONTACT:
ORGANIZER;CN="Cari Feiler Bender":http://phillytodo.com/profile/CariFe
 ilerBender
ATTACH;FMTTYPE="image/jpeg":
ATTENDEE;ROLE=REQ-PARTICIPANT;PARTSTAT=ACCEPTED;RSVP=TRUE;CN="Cari Fei
 ler Bender":http://phillytodo.com/profile/CariFeilerBender
END:VEVENT
END:VCALENDAR
