BEGIN:VCALENDAR
PRODID:NingEventWidget-v1
VERSION:2.0
METHOD:PUBLISH
BEGIN:VEVENT
UID:4320450:Event:32841
DTSTAMP:20260425T142755Z
SUMMARY:Once Upon A Nation Storytelling Benches
DESCRIPTION:Ten one-of-a-kind award-winning Once Upon A Nation Storyte
 lling Benches are scattered all over Philadelphia’s Historic Distric
 t, telling riveting stories of our nation’s history in the places wh
 ere they actually happened. Specially-trained, uniformed storytellers 
 delight and entertain with free, short 5-minute stories while sharing 
 the\nsecrets of Philadelphia’s and America’s history. Children can
  pick up a Story Flag at any storytelling bench, then collect a star f
 rom every storyteller on their journey. Flags with all the stars can b
 e redeemed at the Historic Philadelphia Center, Franklin Square, or th
 e Betsy Ross House for a History Hero Certificate and a free carousel 
 ride. \n\nAugust 16 – 31, Fridays and Saturdays: 11 am - 4 pm \n\n
 \n\nThroughout Philadelphia’ s Historic District, FREE\nThe free sto
 rytelling benches will be at these 10 locations in the Historic Distri
 ct:\n\nIndependence Visitor Center\n\nHistoric Philadelphia Center\n\n
 Independence Square, behind Independence Hall\n\nPNC Bank Storytelling
  Bench in Signers’ Garden\n\nThe ACE Charitable Foundation Storytell
 ing Bench at Carpenters’ Hall\n\nFranklin Court\n\nChrist Church\n\n
 Betsy Ross House\n\nThe Lincoln Storytelling Bench at the National Con
 stitution Center\n\nWawa Storytelling Bench in Franklin Square \n\n\n
 \n\n\n\n\n\n\n\n\n\nFor more information visit http://phillytodo.com/e
 vents/once-upon-a-nation-storytelling-benches-1
DTSTART:20130816T150000Z
DTEND:20130831T200000Z
CATEGORIES:storytelling
LOCATION:Throughout Philadelphia's Historic District
WEBSITE:http://www.historicphiladelphia.org
URL:http://www.historicphiladelphia.org
CONTACT:
ORGANIZER;CN="Cari Feiler Bender":http://phillytodo.com/profile/CariFe
 ilerBender
ATTACH;FMTTYPE="image/jpeg":
ATTENDEE;ROLE=REQ-PARTICIPANT;PARTSTAT=ACCEPTED;RSVP=TRUE;CN="Cari Fei
 ler Bender":http://phillytodo.com/profile/CariFeilerBender
END:VEVENT
END:VCALENDAR
