BEGIN:VCALENDAR
PRODID:NingEventWidget-v1
VERSION:2.0
METHOD:PUBLISH
BEGIN:VEVENT
UID:4320450:Event:48909
DTSTAMP:20260425T160910Z
SUMMARY:OM Slay Yoga Party
DESCRIPTION:Time your breath to each beat, feel the vibration of the s
 ound, and spend your Friday night with Mairin Matthews and DJ Dilemma 
 at Hard Rock Café’s Yoga Dance Party. This 21+ event includes 60 mi
 nutes of yoga instruction, live music, one appetizer, and one drink ti
 cket for beer or wine. Following the yoga dance party, the playlist wi
 ll continue with live music and half-priced appetizers throughout the 
 night.  For more details and to purchase tickets visit,\nhttps://www.
 ticketfly.com/purchase/event/1419919?utm_medium=bks\n\nFor more inform
 ation visit http://phillytodo.com/events/om-slay-yoga-party
DTSTART:20170310T233000Z
DTEND:20170311T040000Z
CATEGORIES:yoga
LOCATION:Hard Rock Cafe
WEBSITE:
URL:
CONTACT:215.627.1060
ORGANIZER;CN=CashmanAssoc:http://phillytodo.com/profile/CashmanAssoc
ATTACH;FMTTYPE="image/jpeg":http://storage.ning.com/topology/rest/1.0/
 file/get/3055002134?profile=original
ATTENDEE;ROLE=REQ-PARTICIPANT;PARTSTAT=ACCEPTED;RSVP=TRUE;CN=CashmanAs
 soc:http://phillytodo.com/profile/CashmanAssoc
END:VEVENT
END:VCALENDAR
