BEGIN:VCALENDAR
PRODID:NingEventWidget-v1
VERSION:2.0
METHOD:PUBLISH
BEGIN:VEVENT
UID:4320450:Event:42708
DTSTAMP:20260425T132528Z
SUMMARY:Old City Fest
DESCRIPTION:Old City Fest returns on Sunday, October 11, 2015, from 12
 :00pm to 6:00pm, along N. 3rd Street (from Market to Race) and Arch St
 reet (from 2nd to 4th). Celebrate art and design, fashion and food, cr
 eativity and culture, music and family fun on the streets of Americaâ€
 ™s most historic square mile. Enjoy a fashion show, design showcase, l
 ive bands, circus performers, kidsâ€™ entertainment, savory and sweet 
 bites, seasonal craft beers, handmade shopping, 100+ vendors and more.
  Admission is free and open to the public. Produced by Old City Distri
 ct with support from Xfinity, Mighty Engine, Kaiserman, Colonial Penn 
 Life Insurance, More FM and Where Magazine. For more info, visit oldci
 tydistrict.org or call (215) 592-7929.\n\nFor more information visit h
 ttp://phillytodo.com/events/old-city-fest
DTSTART:20151011T160000Z
DTEND:20151011T220000Z
CATEGORIES:festival
LOCATION:Old City District
WEBSITE:http://oldcitydistrict.org/events/old-city-fest#.VgwSFstViko
URL:http://oldcitydistrict.org/events/old-city-fest#.VgwSFstViko
CONTACT:2155927929
ORGANIZER;CN="Aversa PR & Events":http://phillytodo.com/profile/KoryAv
 ersa277
ATTACH;FMTTYPE="image/jpeg":http://storage.ning.com/topology/rest/1.0/
 file/get/3054990123?profile=original
ATTENDEE;ROLE=REQ-PARTICIPANT;PARTSTAT=ACCEPTED;RSVP=TRUE;CN="Aversa P
 R & Events":http://phillytodo.com/profile/KoryAversa277
END:VEVENT
END:VCALENDAR
