BEGIN:VCALENDAR
PRODID:NingEventWidget-v1
VERSION:2.0
METHOD:PUBLISH
BEGIN:VEVENT
UID:4320450:Event:46512
DTSTAMP:20260425T114106Z
SUMMARY:Old City Eats
DESCRIPTION:Old City District debuts Old City Eats every Thursday thro
 ugh August 25, 2016, from 5-8pm, at 32 restaurants and bars. Philadelp
 hia’s newest summer happy will feature 50% off select small plates a
 nd $5 cocktails, plus off-menu specials, seasonal cocktails and chef c
 ollaborations. Participating restaurants offer something for everyone,
  including Fork, The Little Lion, High Street on Market, Buddakan, Com
 mon Wealth, Amada, Cuba Libre Restaurant & Rum Bar, The Olde Bar, Cont
 inental, Nick’s Bar & Grille, Jasmine Rice, Sassafras and many other
 s. For menus and a list of participating restaurants, visit oldcitydis
 trict.org or call (215) 592-7929.\n\nFor more information visit http:/
 /phillytodo.com/events/old-city-eats
DTSTART:20160616T210000Z
DTEND:20160826T000000Z
CATEGORIES:happy, hour
LOCATION:Old City
WEBSITE:http://www.oldcitydistrict.org/dine/oldcityeats
URL:http://www.oldcitydistrict.org/dine/oldcityeats
CONTACT:(215) 592-7929
ORGANIZER;CN="Aversa PR & Events":http://phillytodo.com/profile/KoryAv
 ersa277
ATTACH;FMTTYPE="image/jpeg":http://storage.ning.com/topology/rest/1.0/
 file/get/3054995815?profile=original
ATTENDEE;ROLE=REQ-PARTICIPANT;PARTSTAT=ACCEPTED;RSVP=TRUE;CN="Aversa P
 R & Events":http://phillytodo.com/profile/KoryAversa277
END:VEVENT
END:VCALENDAR
