BEGIN:VCALENDAR
PRODID:NingEventWidget-v1
VERSION:2.0
METHOD:PUBLISH
BEGIN:VEVENT
UID:4320450:Event:50209
DTSTAMP:20260425T125003Z
SUMMARY:Old City Eats Block Party
DESCRIPTION:Old City District showcases its thriving dining scene with
  the return of Old City Eats! Old City Eats kicks off on Thursday, Jun
 e 15, 2017 with a new Old City Eats Block Party from 5:00pm to 8:00pm 
 on 2nd Street (between Market and Chestnut). Stroll 2nd Street and enj
 oy live music, tasty bites, signature dishes, seasonal cocktails and c
 old craft beers. 16+ restaurants and bars will serve al fresco style, 
 including Capofitto, Continental, Common Wealth, Cuba Libre, Nick’s 
 Bar and Grille, High Street on Market, Sassafras and more. The block p
 arty is the official kick-off to Old City Eats happy hour series every
  Thursday night through Labor Day Weekend, from 5:00pm to 8:00pm, at 2
 5+ restaurants and bars. Visit a different restaurant each week for ha
 lf priced appetizers, $4 beer featuring Penn Beer and $5 cocktails fea
 turing Faber Liquors. The full list of participating restaurants, alon
 g with their menus, is found at oldcitydistrict.org/oldcityeats. Old C
 ity Eats Block Party is free and open to the public. Food and drink ar
 e pay-as-you-go.\n\nFor more information visit http://phillytodo.com/e
 vents/old-city-eats-block-party
DTSTART:20170615T210000Z
DTEND:20170616T000000Z
CATEGORIES:block, party
LOCATION:Old City District
WEBSITE:http://oldcitydistrict.org/oldcityeats
URL:http://oldcitydistrict.org/oldcityeats
CONTACT:(215) 592-7929
ORGANIZER;CN="Aversa PR & Events":http://phillytodo.com/profile/KoryAv
 ersa277
ATTACH;FMTTYPE="image/jpeg":http://storage.ning.com/topology/rest/1.0/
 file/get/3055003931?profile=original
ATTENDEE;ROLE=REQ-PARTICIPANT;PARTSTAT=ACCEPTED;RSVP=TRUE;CN="Aversa P
 R & Events":http://phillytodo.com/profile/KoryAversa277
END:VEVENT
END:VCALENDAR
