BEGIN:VCALENDAR
PRODID:NingEventWidget-v1
VERSION:2.0
METHOD:PUBLISH
BEGIN:VEVENT
UID:4320450:Event:42944
DTSTAMP:20260425T125008Z
SUMMARY:OLD CITY CRAFT NIGHT
DESCRIPTION:See, shop, drink and dine throughout Old City Philadelphia
 . Enjoy evening hours at The Center for Art in Wood, the Clay Studio, 
 Snyderman-Works Gallery and Millésimé, as well as Craft NOW specials
  at selected Old City bars and restaurants.Presented in partnership wi
 th the Old City District, this event is part of Craft NOW Philadelphi
 a – a celebration of the art of craft.\n\nFor more information visit
  http://phillytodo.com/events/old-city-craft-night
DTSTART:20151112T220000Z
DTEND:20151113T010000Z
CATEGORIES:art, event
LOCATION:Old City District
WEBSITE:http://www.craftnowphila.org
URL:http://www.craftnowphila.org
CONTACT:215-717-7883
ORGANIZER:Maria Moller
ATTACH;FMTTYPE="image/jpeg":
ATTENDEE;ROLE=REQ-PARTICIPANT;PARTSTAT=ACCEPTED;RSVP=TRUE;CN="Bryan Ch
 an":http://phillytodo.com/profile/BryanChan
END:VEVENT
END:VCALENDAR
