BEGIN:VCALENDAR
PRODID:NingEventWidget-v1
VERSION:2.0
METHOD:PUBLISH
BEGIN:VEVENT
UID:4320450:Event:2318
DTSTAMP:20260425T125919Z
SUMMARY:\"Off the Mat\" Yoga In Action Group
DESCRIPTION:Dates: Wed 9/29/2010 – 11/10/2010\nTime: 6:30 PM – 8:4
 5 PM\nCost: $325; SAVE $50 if you register by 9/15. Cost includes cour
 se work, course materials, asana practice and FREE Saturday classes wi
 th Shiya for the 7 weeks.\n\nYoga in Action is OTM’s grassroots move
 ment that brings the Off the Mat experience to your local area. These 
 7-week groups are an opportunity to build community around yoga and se
 rvice, develop relationships with other yogis and activists in your ar
 ea and collaborate on creating real change.\n\nYoga in Action small gr
 oups allow participants to embark on a journey of self-inquiry with th
 e support of a small group of peers that leads to action within our co
 mmunity and outside world. OTM’s vision is to seed these small group
 s of change in communities to inspire collaboration and connection amo
 ng our community of yoga activists.\n\nOff the Mat, Into the World® (
 OTM), a program of the nonprofit, The Engage Network, is dedicated to 
 bridging yoga and activism. Founded in 2007, OTM’s mission is to use
  the power of yoga to inspire conscious, sustainable activism and igni
 te grassroots social change.\n\nWe will work on grounding and understa
 nding what conscious activism is; on self-inquiry, learning what skill
 s we already have that we can call upon as activists; on finding our p
 assion, diving deeper into what and where we want to put our efforts; 
 on our interconnectedness, how to cope with stress, how to give and re
 ceive support; on how to become an effective activist; on beginning to
  take action. As a group you will begin to develop a seva project.\n\n
 For more information visit http://phillytodo.com/events/off-the-mat-yo
 ga-in-action
DTSTART:20100929T223000Z
DTEND:20101111T014500Z
CATEGORIES:yoga, workshop
LOCATION:Shanti Yoga Shala
WEBSITE:http://www.shantiyogashala.org
URL:http://www.shantiyogashala.org
CONTACT:215-923-9642
ORGANIZER;CN="Shanti Yoga Shala":http://phillytodo.com/profile/ShantiY
 ogaShala
ATTACH;FMTTYPE="image/jpeg":http://storage.ning.com/topology/rest/1.0/
 file/get/3054950577?profile=original
ATTENDEE;ROLE=REQ-PARTICIPANT;PARTSTAT=ACCEPTED;RSVP=TRUE;CN="Shanti Y
 oga Shala":http://phillytodo.com/profile/ShantiYogaShala
END:VEVENT
END:VCALENDAR
