BEGIN:VCALENDAR
PRODID:NingEventWidget-v1
VERSION:2.0
METHOD:PUBLISH
BEGIN:VEVENT
UID:4320450:Event:34905
DTSTAMP:20260425T144411Z
SUMMARY:October Brewery of the Month
DESCRIPTION:Free Will Brewing Co. is Old Eagle Tavern's Brewery of the
  Month!  We will be selling Saison de Rose & another Free Will beer a
 ll month long.  \n\nOn October 23, come out & meet the brewers!  Ins
 tead of our usual $1 off, we will donate $1 from each Free Will beer s
 old to the Rena Rowen Breast Cancer Center in honor of National Breast
  Cancer Month.\n\nFor more information visit http://phillytodo.com/eve
 nts/october-brewery-of-the-month
DTSTART:20131023T230000Z
DTEND:20131024T060000Z
CATEGORIES:happy, hour
LOCATION:Old Eagle Tavern
WEBSITE:http://oldeagletavern.com
URL:http://oldeagletavern.com
CONTACT:215-483-5535
ORGANIZER;CN="Punch Media":http://phillytodo.com/profile/PunchMedia
ATTACH;FMTTYPE="image/jpeg":http://storage.ning.com/topology/rest/1.0/
 file/get/3054967758?profile=original
ATTENDEE;ROLE=REQ-PARTICIPANT;PARTSTAT=ACCEPTED;RSVP=TRUE;CN="Punch Me
 dia":http://phillytodo.com/profile/PunchMedia
END:VEVENT
END:VCALENDAR
