BEGIN:VCALENDAR
PRODID:NingEventWidget-v1
VERSION:2.0
METHOD:PUBLISH
BEGIN:VEVENT
UID:4320450:Event:169708
DTSTAMP:20260425T155046Z
SUMMARY:Object Lesson
DESCRIPTION:Object Lesson is a collaborative exhibition meant to highl
 ight the outstanding art of Richard Benson, an influential photographe
 r and printmaker. Benson worked as an educator at the Yale School of A
 rt and made revolutionary innovations in the techniques and philosophy
  of printing and reproduction. The TILT Institute for the Contemporary
  Image (TILT), in partnership with the Aperture Foundation, is proud t
 o host an exhibition dedicated to Richard Benson, displaying some of h
 is rare publications alongside the art of thirty-five artists influenc
 ed by his work. Through the collection, audiences can “take inspirat
 ion from Benson’s wit and wisdom” and learn just how he revolution
 ized art in photography and printing.\n\nFor more information visit ht
 tp://phillytodo.com/events/object-lesson
DTSTART:20211102T140000Z
DTEND:20220108T230000Z
CATEGORIES:photo, exhibition
LOCATION:TILT Institute for the Contemporary Image
WEBSITE:https://tiltinstitute.org/events/object-lesson/
URL:https://tiltinstitute.org/events/object-lesson/
CONTACT:215-232-5678
ORGANIZER:En Route Marketing
ATTACH;FMTTYPE="image/jpeg":https://storage.ning.com/topology/rest/1.0
 /file/get/9760682897?profile=original
ATTENDEE;ROLE=REQ-PARTICIPANT;PARTSTAT=ACCEPTED;RSVP=TRUE;CN="Bryan Ch
 an":http://phillytodo.com/profile/BryanChan
END:VEVENT
END:VCALENDAR
