BEGIN:VCALENDAR
PRODID:NingEventWidget-v1
VERSION:2.0
METHOD:PUBLISH
BEGIN:VEVENT
UID:4320450:Event:29105
DTSTAMP:20260425T144316Z
SUMMARY:NYEPhilly.com is the ultimate go-to source for an unforgettabl
 e NYE
DESCRIPTION:This year, Philadelphiaâ€™s #1 sourceÂ forÂ the areaâ€™s h
 ottest, hippest places to ring in 2013,Â NYEPhilly.comÂ is back and be
 tter than ever. ProducingÂ over a dozen celebrations, each with its ow
 n unique lineup and location, NYEPhilly.com is your one-stop-shop forÂ
  every party.\nWith a range of venues and price points, NYEPhilly.com 
 has a party planned for everyone. From general admission tickets to ex
 ecutive VIP lounges, each venue brings a new possibility and flavor to
  the night.\n\nFor more information visit http://phillytodo.com/events
 /nyephilly-com-is-the-ultimate-go-to-source-for-an-unforgettable
DTSTART:20130101T000000Z
DTEND:20130101T190000Z
CATEGORIES:new, years, eve, party
LOCATION:Philadelphia, PA
WEBSITE:http://www.NYEPhilly.com
URL:http://www.NYEPhilly.com
CONTACT:
ORGANIZER:NYEPhilly.com
ATTACH;FMTTYPE="image/jpeg":http://storage.ning.com/topology/rest/1.0/
 file/get/3054962928?profile=original
ATTENDEE;ROLE=REQ-PARTICIPANT;PARTSTAT=ACCEPTED;RSVP=TRUE;CN="Jill Ash
 er":http://phillytodo.com/profile/JillAsher
END:VEVENT
END:VCALENDAR
