BEGIN:VCALENDAR
PRODID:NingEventWidget-v1
VERSION:2.0
METHOD:PUBLISH
BEGIN:VEVENT
UID:4320450:Event:29303
DTSTAMP:20260425T150209Z
SUMMARY:NYEPhilly.com is Philly’s Number One NYE Party Authority
DESCRIPTION:This year, Philadelphia’s #1 source for the area’s h
 ottest, hippest places to ring in 2013, NYEPhilly.com is back and be
 tter than ever. Producing over a dozen celebrations, each with its o
 wn unique lineup and location, NYEPhilly.com is your one-stop-shop for
  every party. With a range of venues and price points, NYEPhilly.com 
 has a party planned for everyone. From general admission tickets to ex
 ecutive VIP lounges, each venue brings a new possibility and flavor to
  the night. \n\nFor more information visit http://phillytodo.com/even
 ts/nyephilly-com-is-philly-s-number-one-nye-party-authority
DTSTART:20130101T010000Z
DTEND:20130101T070000Z
CATEGORIES:new, years, eve, parties
LOCATION:NyePhilly.com
WEBSITE:http://nyephilly.com
URL:http://nyephilly.com
CONTACT:212-225-4223
ORGANIZER;CN="Ashley Conde":http://phillytodo.com/profile/AshleyConde
ATTACH;FMTTYPE="image/jpeg":http://storage.ning.com/topology/rest/1.0/
 file/get/3054962450?profile=original
ATTENDEE;ROLE=REQ-PARTICIPANT;PARTSTAT=ACCEPTED;RSVP=TRUE;CN="Ashley C
 onde":http://phillytodo.com/profile/AshleyConde
END:VEVENT
END:VCALENDAR
