BEGIN:VCALENDAR
PRODID:NingEventWidget-v1
VERSION:2.0
METHOD:PUBLISH
BEGIN:VEVENT
UID:4320450:Event:39307
DTSTAMP:20260425T124841Z
SUMMARY:NYE @ THe Bridge
DESCRIPTION:New Years Eve 2015 at The BridgePhilly's Hottest New Hango
 ut!4 Hour Open Bar - 10pm-2amMidnight Champagne ToastSelection of Appe
 tizers $60 per person Featuring Live DJ Setsfor tickets and addition
 al information visit http://nye2015atthebridge.eventbrite.com100 Spri
 ng Garden StreetPhiladelphia, PA 215-867-2203thebridgephilly.comFREE 
 PARKING!\n\nFor more information visit http://phillytodo.com/events/ny
 e-the-bridge
DTSTART:20150101T030000Z
DTEND:20150101T070000Z
CATEGORIES:new, "year's", eve
LOCATION:The Bridge
WEBSITE:http://thebridgephilly.com
URL:http://thebridgephilly.com
CONTACT:2158672203
ORGANIZER;CN="UpcomingEvents.com":http://phillytodo.com/profile/Upcomi
 ngEventscom
ATTACH;FMTTYPE="image/jpeg":http://storage.ning.com/topology/rest/1.0/
 file/get/3054983145?profile=original
ATTENDEE;ROLE=REQ-PARTICIPANT;PARTSTAT=ACCEPTED;RSVP=TRUE;CN="Upcoming
 Events.com":http://phillytodo.com/profile/UpcomingEventscom
END:VEVENT
END:VCALENDAR
