BEGIN:VCALENDAR
PRODID:NingEventWidget-v1
VERSION:2.0
METHOD:PUBLISH
BEGIN:VEVENT
UID:4320450:Event:35375
DTSTAMP:20260425T130433Z
SUMMARY:NYE Studio 54 Dinner at Square 1682
DESCRIPTION:Square 1682 offers a prix-fixe dinner on New Year's Eve fo
 r $54 per person with optional wine pairings. The five course menu fea
 tures local ingredients and exquisite offerings from Chef Caitlin Mate
 o. \nThe decor and music will reflect Studio 54 with an 80's inspired
  party vibe. As the night goes on, the music gets louder, the lights g
 et lower, and the party really gets started. Reservations still availa
 ble. Champagne toast at midnight.\n\nFor more information visit http:/
 /phillytodo.com/events/nye-studio-54-dinner-at-square-1682
DTSTART:20131231T220000Z
DTEND:20140101T070000Z
CATEGORIES:nye
LOCATION:Square 1682
WEBSITE:http://www.square1682.com
URL:http://www.square1682.com
CONTACT:(215) 563-5008
ORGANIZER;CN="Punch Media":http://phillytodo.com/profile/PunchMedia
ATTACH;FMTTYPE="image/jpeg":
ATTENDEE;ROLE=REQ-PARTICIPANT;PARTSTAT=ACCEPTED;RSVP=TRUE;CN="Punch Me
 dia":http://phillytodo.com/profile/PunchMedia
END:VEVENT
END:VCALENDAR
