BEGIN:VCALENDAR
PRODID:NingEventWidget-v1
VERSION:2.0
METHOD:PUBLISH
BEGIN:VEVENT
UID:4320450:Event:39507
DTSTAMP:20260425T125036Z
SUMMARY:NYE Fireworks Show at Fire & Ice
DESCRIPTION:Ring in the New Year in Old City, Philadelphia the birthpl
 ace of America! This NYE event really has it all - DJ Freedom, Open Ba
 r, Massive Dance Floor, Light Food, Hats, Horns, Party Toys & Great vi
 ews of the Fireworks show going off at Midnight on the Delaware River.
  Everyone will have a VIP Wristband to have access to this. General A
 dmission- $65pp 3 Hour Select Open Bar 9pm-midnightChampagne ToastPre
 mium VIP Package- $90pp 3 Hour Select Open Bar 9pm-midnightChampagne 
 ToastVIP seating Area for Entire Event(1-4 people- 1 Bottle of Premium
  Vodka)(5-10 people- 2 Bottles of Premium Vodka)Ultra VIP Package- $11
 0 pp 3 Hour Select Open Bar 9pm-midnightChampagne ToastVIP Seating Ar
 ea for Entire Event(1-4 people- 1 Bottle of Top Shelf Vodka)(5-10 peop
 le- 2 Bottles of Top Shelf Vodka)Snack & Appetizer Buffet from 9-11pmF
 ire & Ice:The private event space at Fire & Ice carries a slick, moder
 n industrial design and is outfitted with a large, fully stocked bar, 
 VIP area, DJ booth, and video and photo monitors.312 Market StPhiladel
 phia, PA(267) 273-1003\n\nFor more information visit http://phillytodo
 .com/events/nye-fireworks-show-at-fire-ice
DTSTART:20150101T020000Z
DTEND:20150101T070000Z
CATEGORIES:new, years
LOCATION:Fire & Ice
WEBSITE:http://philadelphia.cities2night.com/events/details/270232/0/n
 ye-fireworks-show
URL:http://philadelphia.cities2night.com/events/details/270232/0/nye-f
 ireworks-show
CONTACT:
ORGANIZER;CN="UpcomingEvents.com":http://phillytodo.com/profile/Upcomi
 ngEventscom
ATTACH;FMTTYPE="image/jpeg":
ATTENDEE;ROLE=REQ-PARTICIPANT;PARTSTAT=ACCEPTED;RSVP=TRUE;CN="Upcoming
 Events.com":http://phillytodo.com/profile/UpcomingEventscom
END:VEVENT
END:VCALENDAR
