BEGIN:VCALENDAR
PRODID:NingEventWidget-v1
VERSION:2.0
METHOD:PUBLISH
BEGIN:VEVENT
UID:4320450:Event:54409
DTSTAMP:20260425T123420Z
SUMMARY:NYE Countdown in the Sky
DESCRIPTION:Not sure how to celebrate New Year’s Eve with your young
 sters? Take them up to SkyLodge to see awesome views (the 51st floor) 
 of Philly on Sunday, December 31 from 5 to 7 p.m. There will be party 
 favors, free hot chocolates and snacks. The kids will love the 6 p.m. 
 countdown to fireworks, and parents will love the spiked hot chocolate
 s, food and full bar. Tickets are $20.17 for adults over the age of 15
 , and minors are just $5. Limited to four children per adult. Get your
  tickets here: https://skybrunch.ticketleap.com/kiddie-countdown-in-th
 e-sky-2017/ \nFor Philadelphians wanting to celebrate New Year’s Eve
  on a high note, SkyLodge is hosting a 2018 countdown 676 ft. above Ce
 nter City. With open-air panoramic views of the fireworks on the Delaw
 are and DJ Love City spinning all night, it’s sure to be a great fin
 ish to 2017! Tickets are $79 and include a three hour premiere open ba
 r from 9 p.m. to 12 a.m., charcuterie station, dessert station, party 
 favors and champagne toast at midnight. Doors open at 9 p.m. and the p
 arty lasts until 1 a.m. Tickets available https://skybrunch.ticketleap
 .com/countdown-in-the-sky/\n\nFor more information visit http://philly
 todo.com/events/nye-countdown-in-the-sky
DTSTART:20171231T220000Z
DTEND:20180101T070000Z
CATEGORIES:nye, new, "year's", eve
LOCATION:Skygarten
WEBSITE:https://skybrunch.ticketleap.com/countdown-in-the-sky/
URL:https://skybrunch.ticketleap.com/countdown-in-the-sky/
CONTACT:
ORGANIZER:SkyGarten
ATTACH;FMTTYPE="image/jpeg":http://storage.ning.com/topology/rest/1.0/
 file/get/3055013581?profile=original
ATTENDEE;ROLE=REQ-PARTICIPANT;PARTSTAT=ACCEPTED;RSVP=TRUE;CN="Punch Me
 dia":http://phillytodo.com/profile/PunchMedia
END:VEVENT
END:VCALENDAR
