BEGIN:VCALENDAR
PRODID:NingEventWidget-v1
VERSION:2.0
METHOD:PUBLISH
BEGIN:VEVENT
UID:4320450:Event:35240
DTSTAMP:20260425T144257Z
SUMMARY:NYE Celebration 2014
DESCRIPTION:The ONLY place to ring in the New Year is at XFINITY Live!
  Philadelphia.We're throwing seven (7) parties under one (1) roof with
  a FIVE HOUR PREMIUM open bar!!TICKETS: http://nyephilly.com/xfinity-
 live/new-years-eveLive DJ's in each room plus \"The Rockets\" performi
 ng inside Victory Beer Hall and \"Split Decision\" rocking the heated 
 tent!Watch the ball drop on the 32-foot HD LED big screen tv inside of
  NBC Sports Arena with a complimentary champagne toast!Purchase your t
 ickets now for the biggest NYE Celebration 2014 in Philly! Tickets sta
 rting as low as $75! Free parking is available after 5pm.\n\nFor more
  information visit http://phillytodo.com/events/nye-celebration-2014
DTSTART:20140101T010000Z
DTEND:20140101T070000Z
CATEGORIES:new, "year's"
LOCATION:South Philly Sports Complex
WEBSITE:http://xfinitylive.com/index.cfm?page=entertainment&subsection
 =date&id=2013-12-31#event-1939
URL:http://xfinitylive.com/index.cfm?page=entertainment&subsection=dat
 e&id=2013-12-31#event-1939
CONTACT:(267) 443-6415
ORGANIZER:
ATTACH;FMTTYPE="image/jpeg":
ATTENDEE;ROLE=REQ-PARTICIPANT;PARTSTAT=ACCEPTED;RSVP=TRUE;CN="Stepfani
 e McCaffrey":http://phillytodo.com/profile/StepfanieMcCaffrey
END:VEVENT
END:VCALENDAR
