BEGIN:VCALENDAR
PRODID:NingEventWidget-v1
VERSION:2.0
METHOD:PUBLISH
BEGIN:VEVENT
UID:4320450:Event:48342
DTSTAMP:20260425T123909Z
SUMMARY:NYE 2017 at The Pier in Atlantic City, NJ
DESCRIPTION:The biggest NYE Event on the East Coast with 6 Parties und
 er one roof and room for 3500 people!  Join us at the Playground Pier
  at Caesars in Atlantic City.\nThis is the best deal in Atlantic City 
 for New Year’s Eve. Tickets start at $60 if you buy early, wait and 
 you could pay double.\n\nHERE’S WHAT YOU CAN EXPECT:\n\n5-HOUR PREMI
 UM OPEN BAR\n\n\n\n\nThe Premium Open Bar goes from 9PM til 2AM\n\n\nL
 IVE BAND & ENTERTAINMENT\n20,000 SQ FT NIGHTCLUB\n\n\n\nDUELING PIANO 
 BAR\nKARAOKE BAR\nROARING 1920'S SPEAKEASY-- Featuring classic craft 
 beers and craft cocktails\nVIP LOUNGE WITH CATERED FOOD STATIONS\nTHE 
 MOST BAR SPACE IN ATLANTIC CITY--This will insure fast service and a w
 orld-class experience\n\n\n\n\nFor more information visit http://phill
 ytodo.com/events/nye-2017-at-the-pier-in-atlantic-city-nj
DTSTART:20170101T020000Z
DTEND:20170101T090000Z
CATEGORIES:new, "year's", eve, party
LOCATION:The Playground Pier
WEBSITE:http://piernye.com
URL:http://piernye.com
CONTACT:610-952-3331
ORGANIZER;CN="UpcomingEvents.com":http://phillytodo.com/profile/Upcomi
 ngEventscom
ATTACH;FMTTYPE="image/jpeg":
ATTENDEE;ROLE=REQ-PARTICIPANT;PARTSTAT=ACCEPTED;RSVP=TRUE;CN="Upcoming
 Events.com":http://phillytodo.com/profile/UpcomingEventscom
END:VEVENT
END:VCALENDAR
