BEGIN:VCALENDAR
PRODID:NingEventWidget-v1
VERSION:2.0
METHOD:PUBLISH
BEGIN:VEVENT
UID:4320450:Event:22710
DTSTAMP:20260425T144406Z
SUMMARY:NYE 2012 - Manayunk's Hottest New Years Eve Bash!
DESCRIPTION:New Years Eve 2012 at the Manayunk Brewery - this is it. 
  It's what you all have been waiting for!  Multiple rooms, DJs, danci
 ng all night long, great food, shaken drinks, and 1000 new friends to 
 ring in 2012 with.  Yup, it's NYE 2012 at the Manayunk Brewery!  The
 re are two different affordable ticket levels and with both, tax & gra
 tuity is included.\n\nFor more information visit http://phillytodo.com
 /events/nye-2012-manayunk-s-hottest-new-years-eve-bash
DTSTART:20120101T010000Z
DTEND:20120101T070000Z
CATEGORIES:new, "year's", eve, party
LOCATION:Manyunk Brewery & Restaurant
WEBSITE:
URL:
CONTACT:http://www.upcomingevents.com/philadelphia/new-years-eve-2012/
 manayunk-brewery/ptodo
ORGANIZER;CN="UpcomingEvents.com":http://phillytodo.com/profile/Upcomi
 ngEventscom
ATTACH;FMTTYPE="image/jpeg":
ATTENDEE;ROLE=REQ-PARTICIPANT;PARTSTAT=ACCEPTED;RSVP=TRUE;CN="Upcoming
 Events.com":http://phillytodo.com/profile/UpcomingEventscom
END:VEVENT
END:VCALENDAR
