BEGIN:VCALENDAR
PRODID:NingEventWidget-v1
VERSION:2.0
METHOD:PUBLISH
BEGIN:VEVENT
UID:4320450:Event:56544
DTSTAMP:20260425T124852Z
SUMMARY:Nutcracker Holiday Tea
DESCRIPTION:This favorite annual holiday event includes a selection of
  tea sandwiches (including a Green meadow farm ham with sugar plum c
 ompote), nutcracker-inspired sweets like Clara’s chocolate peppermi
 nt tarts, Nutcracker Prince pecan cookies, and the Mouse King’s mi
 lk chocolate molasses cream tart – along with loose leaf teas and a
  complimentary glass of sparkling wine for adults.\nReservations for h
 oliday events can be made by calling the restaurant at 215-790-1919.\n
 \nFor more information visit http://phillytodo.com/events/nutcracker-h
 oliday-tea
DTSTART:20181205T190000Z
DTEND:20181231T210000Z
CATEGORIES:holiday, tea
LOCATION:The Bellevue Hotel
WEBSITE:https://www.hyatt.com/corporate/restaurants/nineteen-restauran
 t/en/home.html
URL:https://www.hyatt.com/corporate/restaurants/nineteen-restaurant/en
 /home.html
CONTACT:215-790-1919.
ORGANIZER;CN="Bryan Chan":http://phillytodo.com/profile/BryanChan
ATTACH;FMTTYPE="image/jpeg":https://storage.ning.com/topology/rest/1.0
 /file/get/238302073?profile=original
ATTENDEE;ROLE=REQ-PARTICIPANT;PARTSTAT=ACCEPTED;RSVP=TRUE;CN="Bryan Ch
 an":http://phillytodo.com/profile/BryanChan
END:VEVENT
END:VCALENDAR
