BEGIN:VCALENDAR
PRODID:NingEventWidget-v1
VERSION:2.0
METHOD:PUBLISH
BEGIN:VEVENT
UID:4320450:Event:48213
DTSTAMP:20260425T142545Z
SUMMARY:November Quizzo
DESCRIPTION:Please join Johnny Goodtimes for B.Y.O Quizzo and bring yo
 ur team to show off your trivia skills for a chance to win 1st, 2nd or
  3rd place prizes. We got your ice buckets and bottle openers covered,
  just don’t forget your to bring your favorite beverage of choice.\n
 \nFor more information visit http://phillytodo.com/events/november-qui
 zzo
DTSTART:20161108T223000Z
DTEND:20161109T003000Z
CATEGORIES:quizzo
LOCATION:The Market & Shops at Comcast Center
WEBSITE:http://www.themarketandshopsatthecomcastcenter.com
URL:http://www.themarketandshopsatthecomcastcenter.com
CONTACT:(215) 496-1810
ORGANIZER;CN=CashmanAssoc:http://phillytodo.com/profile/CashmanAssoc
ATTACH;FMTTYPE="image/jpeg":http://storage.ning.com/topology/rest/1.0/
 file/get/3055002050?profile=original
ATTENDEE;ROLE=REQ-PARTICIPANT;PARTSTAT=ACCEPTED;RSVP=TRUE;CN=CashmanAs
 soc:http://phillytodo.com/profile/CashmanAssoc
END:VEVENT
END:VCALENDAR
