BEGIN:VCALENDAR
PRODID:NingEventWidget-v1
VERSION:2.0
METHOD:PUBLISH
BEGIN:VEVENT
UID:4320450:Event:3009
DTSTAMP:20260425T130442Z
SUMMARY:November Birthday Bash - Phriday Night Phever
DESCRIPTION:Happy Birthday to all you November Babies!! Come out and c
 elebrate your favorite month with a complimentary birthday 2 hour open
  bar! Don’t worry, we will not leave your friends out. All birthday 
 hosts’ guests will receive free cover, $2 Domestic Drafts, $3 Well D
 rinks and $4 Appetizers. RSVP to mmaggi@mcfaddensballpark.com to get y
 our name on our VIP November Birthday List guest lists!!\n\nSPECIAL GU
 EST BARTENDERS - Eric Scola and Lauren Capocci\n\nGuest DJ Russ Ferran
 te will be spinning with DJ Eddie Tully\n\nEnter to Win a Car From Woo
 dbury Nissan\nNovember Birthday's Receive and Extra Chance!\nPhirday N
 ight Phever Drink Specials throughout the Night!\n\nFor more informati
 on visit http://phillytodo.com/events/november-birthday-bash
DTSTART:20101120T023000Z
DTEND:20101120T070000Z
CATEGORIES:birthday, bash, and, car, give, away, 2011, nissan, altima
LOCATION:McFadden\"s @ Citizens Bank Park
WEBSITE:http://www.mcfaddensballpark.com
URL:http://www.mcfaddensballpark.com
CONTACT:
ORGANIZER;CN="Eddie Tully":http://phillytodo.com/profile/EddieTully508
ATTACH;FMTTYPE="image/jpeg":http://storage.ning.com/topology/rest/1.0/
 file/get/3054950954?profile=original
ATTENDEE;ROLE=REQ-PARTICIPANT;PARTSTAT=ACCEPTED;RSVP=TRUE;CN="Eddie Tu
 lly":http://phillytodo.com/profile/EddieTully508
ATTENDEE;ROLE=REQ-PARTICIPANT;PARTSTAT=TENTATIVE;RSVP=TRUE;CN=d:http:/
 /phillytodo.com/profile/d138
END:VEVENT
END:VCALENDAR
