BEGIN:VCALENDAR
PRODID:NingEventWidget-v1
VERSION:2.0
METHOD:PUBLISH
BEGIN:VEVENT
UID:4320450:Event:35172
DTSTAMP:20260425T142631Z
SUMMARY:Non Profit Professionals Summit
DESCRIPTION:The Non Profit Professionals Summit is a hands-on and coll
 aborative gathering of cross functional non profit professionals in Ph
 iladelphia and the surrounding region.\nOur focus is on providing the 
 non profit community with forward thinking programming, memorable comm
 unity networking experiences and new, relevant and usable tools to hel
 p them be better at what they do everyday.\n\nFor more information vis
 it http://phillytodo.com/events/non-profit-professionals-summit
DTSTART:20140109T170000Z
DTEND:20140109T230000Z
CATEGORIES:conference
LOCATION:XFINITY Live!
WEBSITE:http://nonprofitprosummit.com
URL:http://nonprofitprosummit.com
CONTACT:(267) 270-5720
ORGANIZER;CN="Bread and Butter Productions":http://phillytodo.com/prof
 ile/BreadandButterProductions
ATTACH;FMTTYPE="image/jpeg":http://storage.ning.com/topology/rest/1.0/
 file/get/3054970450?profile=original
ATTENDEE;ROLE=REQ-PARTICIPANT;PARTSTAT=ACCEPTED;RSVP=TRUE;CN="Bread an
 d Butter Productions":http://phillytodo.com/profile/BreadandButterProd
 uctions
END:VEVENT
END:VCALENDAR
