BEGIN:VCALENDAR
PRODID:NingEventWidget-v1
VERSION:2.0
METHOD:PUBLISH
BEGIN:VEVENT
UID:4320450:Event:51403
DTSTAMP:20260425T130559Z
SUMMARY:NoBA’s 10 Union Construction Kick Off Event
DESCRIPTION:Bala Cynwyd is undergoing a major transformation, and we i
 nvite you to be a part of it! On July 20, from 5:00-8:00 pm Cross Pro
 perties will host a construction kick-off event centered around 10 Uni
 on, the first in a series of buildings to be constructed as part of a 
 three-phase master plan that will transform Bala Avenue into a vibrant
 , walkable community destination. The event will take place at 210 Ba
 la Avenue and will feature Food Trucks and a Beer Garden by Berwyn-bas
 ed La Cabra Brewing.\nGuests will have the opportunity to meet the arc
 hitects, designers and developers spearheading the project, and view t
 he plans, finish boards, unit plans, amenity layouts, and more. Upon c
 ompletion, the project will boast 109 apartments, over 8,000 square fe
 et of interior amenities, 9,000 square feet of outdoor rooftop recreat
 ion, gardens, pet-friendly offerings, a concierge desk, electric vehic
 le charging stations, and more. The re-development of 10 Union is expe
 cted to be completed in the Winter of 2018.  \n \nA short video by C
 ross Properties offers additional detail about the Master Plan to re-d
 evelop Bala Aveune, which can be found here: https://vimeo.com/223345
 006/d6ff641bb3\n\nFor more information visit http://phillytodo.com/eve
 nts/noba-s-10-union-construction-kick-off-event
DTSTART:20170720T210000Z
DTEND:20170721T000000Z
CATEGORIES:kick, off, event
LOCATION:NoBA
WEBSITE:
URL:
CONTACT:2156271060
ORGANIZER;CN=CashmanAssoc:http://phillytodo.com/profile/CashmanAssoc
ATTACH;FMTTYPE="image/jpeg":
ATTENDEE;ROLE=REQ-PARTICIPANT;PARTSTAT=ACCEPTED;RSVP=TRUE;CN=CashmanAs
 soc:http://phillytodo.com/profile/CashmanAssoc
END:VEVENT
END:VCALENDAR
