BEGIN:VCALENDAR
PRODID:NingEventWidget-v1
VERSION:2.0
METHOD:PUBLISH
BEGIN:VEVENT
UID:4320450:Event:50301
DTSTAMP:20260425T144255Z
SUMMARY:NoBA Launch Party
DESCRIPTION:Join developer Cross Properties on June 10th from 11-4pm 
 for a preview “pop-up” launch event of NoBA, Bala Village’s new 
 lifestyle community. The party will feature the NoBA temporary Art Spa
 ce & Gallery opening, ice cream and food trucks, music and much more! 
 Come explore a taste of small town USA reimagined in Bala Cynwyd as N
 oBA; where small town culture meets thoughtfully curated retail, resta
 urant and new living spaces.\n\nFor more information visit http://phil
 lytodo.com/events/noba-launch-party
DTSTART:20170610T150000Z
DTEND:20170610T200000Z
CATEGORIES:community
LOCATION:210 Bala Ave
WEBSITE:
URL:
CONTACT:
ORGANIZER;CN=CashmanAssoc:http://phillytodo.com/profile/CashmanAssoc
ATTACH;FMTTYPE="image/jpeg":
ATTENDEE;ROLE=REQ-PARTICIPANT;PARTSTAT=ACCEPTED;RSVP=TRUE;CN=CashmanAs
 soc:http://phillytodo.com/profile/CashmanAssoc
END:VEVENT
END:VCALENDAR
