BEGIN:VCALENDAR
PRODID:NingEventWidget-v1
VERSION:2.0
METHOD:PUBLISH
BEGIN:VEVENT
UID:4320450:Event:34672
DTSTAMP:20260425T124900Z
SUMMARY:No Reservations: The Play
DESCRIPTION:New York Times best-selling humorist Josh Piven gives thea
 ter audiences a best-case scenario for a surefire hit with the world p
 remier of No Reservations. This highly original madcap holiday comedy
  satirizes our celebrity-obsessed, media-saturated culture, and asks w
 hat the age-old story of Christmas might look like today. Written by 
 author of The Worst-Case Scenario Survival Handbook and directed by Al
 lison Heishman, the production runs November 26 through December 15, 2
 013 at Skybox @The Adrienne Theater. Tickets are available now for $18
  to $25. For more information, call 267-225-7175.\n \nNo Reservation
 s, a thoroughly modern retelling of the Nativity, is a classic tale re
 -imagined for our times: iPhones, TMZ, the Twitterverse, and an unforg
 ettable “reality” show featuring a very timely birth. \n \nMr. a
 nd Mrs. Harris, the cash-strapped innkeepers of The Speckled Partridge
 , have cleared their reservation books for a quiet Christmas. But when
  two young women—one of them very famous, and very pregnant—appear
  through a snowstorm, desperate for a place to stay, the relaxing holi
 day quickly begins to unravel. In short order the innkeepers are juggl
 ing a band of sarcastic carolers; a self-absorbed reporter; a fundamen
 talist carpenter; a washed-out Idol winner, and a big-shot TV producer
 —along with their own pseudo-feminist daughter—all fighting off a 
 blizzard to take advantage of an innocent single mother on her way to 
 Bethlehem. But how innocent is she, really? \n\nFor more information 
 visit http://phillytodo.com/events/no-reservations-the-play
DTSTART:20131127T010000Z
DTEND:20131216T040000Z
CATEGORIES:holiday, theater, play
LOCATION:Skybox @ The Adrienne Theater
WEBSITE:http://www.facebook.com/NoRes2013
URL:http://www.facebook.com/NoRes2013
CONTACT:215-840-9216
ORGANIZER;CN="Aversa PR & Events":http://phillytodo.com/profile/KoryAv
 ersa277
ATTACH;FMTTYPE="image/jpeg":http://storage.ning.com/topology/rest/1.0/
 file/get/3054968044?profile=original
ATTENDEE;ROLE=REQ-PARTICIPANT;PARTSTAT=ACCEPTED;RSVP=TRUE;CN="Aversa P
 R & Events":http://phillytodo.com/profile/KoryAversa277
END:VEVENT
END:VCALENDAR
