BEGIN:VCALENDAR
PRODID:NingEventWidget-v1
VERSION:2.0
METHOD:PUBLISH
BEGIN:VEVENT
UID:4320450:Event:35464
DTSTAMP:20260425T172234Z
SUMMARY:No Dog Gets Left Behind Annual Valentine Event
DESCRIPTION:\nThis Valentine's season, help aid the reunion of U.S sol
 diers and the dogs that served as their companions overseas.Â No Dog G
 ets Left Behind will be working in partnership with Philadelphia area 
 food bank Philabundance for their annual Valentine's Charity Event on 
 Saturday, February 22nd. A raffle ticket will be awarded to each atten
 dee for every single can of food that is donated at the event, giving 
 our guests an opportunity to win a special prize that evening.Â Philab
 undance distributes millions of pounds of food each year providing mea
 ls to 72,000 people every week, including many of our veterans.Â Come 
 help those in need, our many veterans, and our brave soldiers by joini
 ng the No Dog Gets Left Behind Valentine's Charity Event, held at Phil
 adelphia's DoubleTree Hilton from 7pm to 11pm, where there will be liv
 e music by POWERi, hors d'oeuvres, raffle prizes, and an opportunity t
 o meet Iraqi and Afghani dogs and their solider companions. All procee
 ds go towards No Dog Gets Left Behind's effort to bring a dog home to 
 its befriended soldier.  Advanced Tickets can be Purchased for $30 atÂ
  http://www.save-the-pups.org/buy-tickets/Â . Tickets at the door can 
 be purchased for $35. \n\n\n\n\nFor more information visit http://phil
 lytodo.com/events/no-dog-gets-left-behind-annual-valentine-event
DTSTART:20140223T000000Z
DTEND:20140223T040000Z
CATEGORIES:charity, event
LOCATION:Doubletree Hilton
WEBSITE:http://save-the-pups.org
URL:http://save-the-pups.org
CONTACT:
ORGANIZER;CN="Jenna Communications":http://phillytodo.com/profile/Jenn
 aCommunications
ATTACH;FMTTYPE="image/jpeg":
ATTENDEE;ROLE=REQ-PARTICIPANT;PARTSTAT=ACCEPTED;RSVP=TRUE;CN="Jenna Co
 mmunications":http://phillytodo.com/profile/JennaCommunications
END:VEVENT
END:VCALENDAR
