BEGIN:VCALENDAR
PRODID:NingEventWidget-v1
VERSION:2.0
METHOD:PUBLISH
BEGIN:VEVENT
UID:4320450:Event:19304
DTSTAMP:20260425T142559Z
SUMMARY:NIGHTMARE On Spring Garden Street
DESCRIPTION: \n The Spring Garden Social Club and Last Call Promotio
 ns present:NIGHTMAREOn Spring Garden StreetPhiladelphia's Only All-Nig
 ht Halloween Bash!Saturday October 29th10pm - 6amEnjoy Tricks, Treats,
  and Monstrous Beats by:DJ STRUCTURE - Direct From NYC The Spin Doctor
  along with DJ LEE JONESAND IN UFORIA...DJ's JOHN G and GIULIANO PREST
 ALive Performances by \"EYE CANDY\"VIP PACKAGE - $40.00 per personTop-
 shelf Open Bar from 10PM - 1AMComplimentary hors d'oeuvresPREMIUM PACK
 AGE - $70 per personTop-shelf Open Bar from 10PM - 1AMComplimentary ho
 rs d'oeuvres Reserved Seating Choice of one bottle for every four gues
 ts from the following selections:Ketel One, Cuervo Silver, Tanqueray, 
 Captain Morgan*Package not confirmed until Zee Bar representative has 
 contacted you for your bottle selection. Reserve bottle selection by c
 alling 215-922-2994 ext.0 *Although the party does not end until 6AM, 
 this promotions expires at 1AM. Additional bottles must be purchased a
 t that time in order to remain at your table.Purchase tickets at - zee
 nightmare.eventbrite.comFor info contact christie@zee-bar.com\n \n \
 n\nFor more information visit http://phillytodo.com/events/nightmare-o
 n-spring-garden-street
DTSTART:20111030T020000Z
DTEND:20111030T100000Z
CATEGORIES:halloween, bash
LOCATION:Zee Bar
WEBSITE:http://www.zee-bar.com
URL:http://www.zee-bar.com
CONTACT:215-922-2994 ext. 0
ORGANIZER;CN="Zee Bar Private Social Club":http://phillytodo.com/profi
 le/ZeeBarPrivateSocialClub
ATTACH;FMTTYPE="image/jpeg":http://storage.ning.com/topology/rest/1.0/
 file/get/3054955024?profile=original
ATTENDEE;ROLE=REQ-PARTICIPANT;PARTSTAT=ACCEPTED;RSVP=TRUE;CN="Zee Bar 
 Private Social Club":http://phillytodo.com/profile/ZeeBarPrivateSocial
 Club
END:VEVENT
END:VCALENDAR
