BEGIN:VCALENDAR
PRODID:NingEventWidget-v1
VERSION:2.0
METHOD:PUBLISH
BEGIN:VEVENT
UID:4320450:Event:56162
DTSTAMP:20260425T112535Z
SUMMARY:Nightmare on Broad Street 2018
DESCRIPTION:Xfinity Live! is about to get weird during this year's Nig
 htmare on Broad Street bash on Saturday, October 27!\n\n \n\nEnjoy th
 is nightmare extravaganza including a LIVE performance from Split Deci
 sion in Victory Beer Hall and karaoke in Broad Street Bullies Pub!\n\n
  \n\nDress to impress because we're giving away some serious cash and
  prizes!\n\n \n\nTicket includes: cover charge and admission to our c
 ostume contests!\n\n \n\nDon’t miss out - the largest Halloween bas
 h in the city is at Xfinity Live! Party starts at 8pm--see you there!\
 n\n\n\n\nFor more information visit http://phillytodo.com/events/night
 mare-on-broad-street-2018
DTSTART:20181028T000000Z
DTEND:20181028T060000Z
CATEGORIES:halloween, party
LOCATION:Xfinity Live
WEBSITE:http://www.upcomingevents.com/e/nightmare-on-broad-street-hall
 oween-bash-36538/?ref=fbevent
URL:http://www.upcomingevents.com/e/nightmare-on-broad-street-hallowee
 n-bash-36538/?ref=fbevent
CONTACT:
ORGANIZER;CN="XFINITY Live! Philadelphia":http://phillytodo.com/profil
 e/XFINITYLivePhiladelphia
ATTACH;FMTTYPE="image/jpeg":http://storage.ning.com/topology/rest/1.0/
 file/get/3055015503?profile=original
ATTENDEE;ROLE=REQ-PARTICIPANT;PARTSTAT=ACCEPTED;RSVP=TRUE;CN="XFINITY 
 Live! Philadelphia":http://phillytodo.com/profile/XFINITYLivePhiladelp
 hia
END:VEVENT
END:VCALENDAR
