BEGIN:VCALENDAR
PRODID:NingEventWidget-v1
VERSION:2.0
METHOD:PUBLISH
BEGIN:VEVENT
UID:4320450:Event:58402
DTSTAMP:20260425T123403Z
SUMMARY:Night Nation Run
DESCRIPTION:The Night Nation Run is the world’s first running music 
 festival and it's coming back to Xfinity Live! on Saturday, June 1!\nT
 his run will take you through an illuminated racecourse to many differ
 ent DJ stages, finishing with an explosive main stage after party feat
 uring top EDM DJ’s and special guest celebrity performer! Start and 
 finish at Xfinity Live! and run around Lincoln Financial Field!\nREGIS
 TRATION INCLUDES:\nRace PacketGlow NecklaceFree GiveawaysAdmission int
 o the Night Nation after party\nCode 'LIVE' saves you $$$ ! Do not wai
 t any longer to buy tickets!\n\nFor more information visit http://phil
 lytodo.com/events/night-nation-run
DTSTART:20190601T230000Z
DTEND:20190602T023000Z
CATEGORIES:fun, run
LOCATION:Xfinity Live!
WEBSITE:https://nightnationrun.com/philadelphia/
URL:https://nightnationrun.com/philadelphia/
CONTACT:
ORGANIZER:Xfinity Live!
ATTACH;FMTTYPE="image/jpeg":https://storage.ning.com/topology/rest/1.0
 /file/get/2219493447?profile=original
ATTENDEE;ROLE=REQ-PARTICIPANT;PARTSTAT=ACCEPTED;RSVP=TRUE;CN="XFINITY 
 Live! Philadelphia":http://phillytodo.com/profile/XFINITYLivePhiladelp
 hia
END:VEVENT
END:VCALENDAR
