BEGIN:VCALENDAR
PRODID:NingEventWidget-v1
VERSION:2.0
METHOD:PUBLISH
BEGIN:VEVENT
UID:4320450:Event:22303
DTSTAMP:20260425T144833Z
SUMMARY:New Years Eve Philly - McFadden's is THE Party Place to End 20
 11!
DESCRIPTION:Hot on the heels of just an amazing Halloween Party, NYEph
 illy.com brings you New Years Eve at the greatest party house in all t
 he lands - McFadden's! Always a great time, never a dull moment. Party
  it up Philly-style and we will be looking for you smooching up a stor
 m at midnight...\n \nSandwiched between Old City and Northern Liberti
 es, McFadden's in Philly has been a landmark icon for 10 years. McFadd
 en's by far is the most dynamic destination in Philadelphia, rich with
  culture, alcohol and good times. As any Irish bar, the staff is legen
 dary, the menu fantastic and the location convenient - when all else f
 ails, you know you can count on an Irish pub - especially when it incl
 udes DJs & dancing!\n \nAll these elements will combine to create the
  ultimate experience for you, your friends, family and co-workers this
  New Year's Eve 2012. Take advantage of the open bar and be prepared f
 or some serious vibes, volume and va-va boom this New Year's Eve.\n \
 n\nFor more information visit http://phillytodo.com/events/new-years-e
 ve-philly-mcfadden-s-is-the-party-place-to-end-2011
DTSTART:20120101T010000Z
DTEND:20120101T070000Z
CATEGORIES:new, years, eve, party
LOCATION:McFaddens 3rd Street
WEBSITE:
URL:
CONTACT:
ORGANIZER;CN="UpcomingEvents.com":http://phillytodo.com/profile/Upcomi
 ngEventscom
ATTACH;FMTTYPE="image/jpeg":http://storage.ning.com/topology/rest/1.0/
 file/get/3054954706?profile=original
ATTENDEE;ROLE=REQ-PARTICIPANT;PARTSTAT=ACCEPTED;RSVP=TRUE;CN="Upcoming
 Events.com":http://phillytodo.com/profile/UpcomingEventscom
END:VEVENT
END:VCALENDAR
