BEGIN:VCALENDAR
PRODID:NingEventWidget-v1
VERSION:2.0
METHOD:PUBLISH
BEGIN:VEVENT
UID:4320450:Event:22505
DTSTAMP:20260425T163221Z
SUMMARY:New Years Eve AC 2012 - The Chelsea Hotel Atlantic City
DESCRIPTION:New York City may be the center of attention this New Year
 's Eve 2012, but Atlantic City definitely takes home the trophy for on
 e of the hottest parties lined up this New Year's. If you're on a ques
 t to make this NYE 2012 one of the best, make sure to check out the cl
 assy and beautifully decorated Crystal Room ballroom inside the famed 
 Chelsea Hotel. The Crystal Room will open its doors and celebrate New 
 Year's Eve 2012 in true nightlife show-stoppin' style.\n \nYou can be
  the envy of all on the most celebrated night of the year by stepping 
 it up a notch and gaining access to Club C5 - an intimate and exclusiv
 e section inside the ballroom which has won the title 'club within a c
 lub'. C5 is a completely renovated mini-mansion with a dance floor as 
 exciting and wild as any.\n \nThe refurbished, retro-chic boutique ho
 tel offers two lounge areas inside C5 where the illustrious and attrac
 tive clientele can chill, chat and romance in style. Its boutique nigh
 tlife experience with glamorous rock-n-roll edge, melding opulent art 
 deco and art nouveau style is the perfect touch to create the ideal se
 tting and ambiance for the best New Year's Eve yet!\n \n\nFor more in
 formation visit http://phillytodo.com/events/new-years-eve-ac-2012-the
 -chelsea-hotel-atlantic-city
DTSTART:20120101T010000Z
DTEND:20120101T070000Z
CATEGORIES:new, years, eve, party
LOCATION:Chelsea Hotel, Atlantic City
WEBSITE:
URL:
CONTACT:
ORGANIZER:NYE Philly
ATTACH;FMTTYPE="image/jpeg":http://storage.ning.com/topology/rest/1.0/
 file/get/3054954859?profile=original
ATTENDEE;ROLE=REQ-PARTICIPANT;PARTSTAT=ACCEPTED;RSVP=TRUE;CN="Upcoming
 Events.com":http://phillytodo.com/profile/UpcomingEventscom
END:VEVENT
END:VCALENDAR
