BEGIN:VCALENDAR
PRODID:NingEventWidget-v1
VERSION:2.0
METHOD:PUBLISH
BEGIN:VEVENT
UID:4320450:Event:22402
DTSTAMP:20260425T144243Z
SUMMARY:New Years Eve 2012: RESOLUTION @ Trust
DESCRIPTION:Formerly known as the 'Real World House', TRUST is absolut
 ely breathtaking. The building itself is unparalleled, but add in spec
 ial lighting, an incredible DJ, beautiful people, and one of NYEphilly
 .com's new years eve parties, well, you and your friends are just simp
 ly in for a serious treat.\n \nFrom the unparalleled service to the s
 tunning ambiance, Trust's lavish event space is the premier spot to ri
 ng in the New Year and experience the backdrop of a soaring 10,000 squ
 are foot bi-level neoclassical turn of the century structure. With a m
 ulti-zone high fidelity sound system, 60 inch plasma screen, solid oak
  hardwood floors, and floor to ceiling windows, Trust will exude grand
 eur and style throughout New Year's Eve.\n \nTo make the night even m
 ore magical, guests can reserve VIP tables on the mezzanine floor and 
 toast in the New Year with flowing champagne and vodka. Cheers to a be
 autiful night and to a fabulous year 2012.\n \n\nFor more information
  visit http://phillytodo.com/events/new-years-eve-2012-resolution-trus
 t
DTSTART:20120101T010000Z
DTEND:20120101T070000Z
CATEGORIES:new, years, eve, party
LOCATION:Trust
WEBSITE:http://www.nyephilly.com/resolution-trust/new-years-eve/ptodo
URL:http://www.nyephilly.com/resolution-trust/new-years-eve/ptodo
CONTACT:
ORGANIZER;CN="UpcomingEvents.com":http://phillytodo.com/profile/Upcomi
 ngEventscom
ATTACH;FMTTYPE="image/jpeg":http://storage.ning.com/topology/rest/1.0/
 file/get/3054954809?profile=original
ATTENDEE;ROLE=REQ-PARTICIPANT;PARTSTAT=ACCEPTED;RSVP=TRUE;CN="Upcoming
 Events.com":http://phillytodo.com/profile/UpcomingEventscom
END:VEVENT
END:VCALENDAR
