BEGIN:VCALENDAR
PRODID:NingEventWidget-v1
VERSION:2.0
METHOD:PUBLISH
BEGIN:VEVENT
UID:4320450:Event:3811
DTSTAMP:20260425T160042Z
SUMMARY:New Year's Celebration
DESCRIPTION:For New Year’s Eve this year, enjoy a day full of family
  entertainment in the most historic city in America. Kick off the New 
 Year’s celebrations at the Betsy Ross House with the annual Betsy’
 s Birthday Bash. Join Betsy for her 259th birthday at the Betsy Ross H
 ouse, 239 Arch Street, from 11 a.m. to 4 p.m. on Friday, December 31. 
 Activities will include storytelling by Betsy, make-and-take crafts, a
  balloon artist, and, of course, birthday cake. Audio guides will be f
 ree with regular admission all day.\n \nAfter the birthday celebratio
 n, head over to Franklin Square, 6th and Race Streets, to ring in 2011
 . A kid’s version of the famous New Year’s countdown begins at 6 p
 .m. and will be followed by fireworks at Penn’s Landing. Franklin Sq
 uare’s various outdoor activities will be open until 8 p.m. on Decem
 ber 31, so have some outdoor fun for 2011!\n \nFun family entertainme
 nt and a beautiful park are just steps away from the Liberty Bell, in 
 one of William Penn’s original five squares.  Award-winning Frankli
 n Square is an outdoor amusement oasis located in the heart of Histori
 c Philadelphia, featuring Philly Mini Golf, a renovated vintage marble
  fountain, playgrounds, the Philadelphia Park Liberty Carousel, and Sq
 uareBurger.  After a day of experiencing the treasures of Philadelphi
 a’s history, putt through some of the city’s most famous icons, ta
 ke a ride on hometown racehorse heroes Afleet Alex or Smarty Jones abo
 ard the carousel, or enjoy a rest next to the refreshing fountain.  I
 n 2008, Dream On Travel named Franklin Square one of the top ten playg
 rounds in the United States and in 2010, Philadelphia Magazine dubbed 
 Franklin Square “Best Family Place.”\n \nPhilly Mini Golf: $8 adu
 lts/$6 children (3-12), FREE for children under 2\nPhiladelphia Park L
 iberty Carousel: $3 adults/$2 children (3-12), FREE for children under
  2\n \nContact us at: www.historicphiladelphia.org or 215-629-4026\n\
 nFor more information visit http://phillytodo.com/events/new-years-cel
 ebration
DTSTART:20101231T230000Z
DTEND:20110101T010000Z
CATEGORIES:family
LOCATION:Franklin Square
WEBSITE:http://www.historicphiladelphia.org
URL:http://www.historicphiladelphia.org
CONTACT:215-629-4026
ORGANIZER;CN="Cari Feiler Bender":http://phillytodo.com/profile/CariFe
 ilerBender
ATTACH;FMTTYPE="image/jpeg":
ATTENDEE;ROLE=REQ-PARTICIPANT;PARTSTAT=ACCEPTED;RSVP=TRUE;CN="Cari Fei
 ler Bender":http://phillytodo.com/profile/CariFeilerBender
END:VEVENT
END:VCALENDAR
