BEGIN:VCALENDAR
PRODID:NingEventWidget-v1
VERSION:2.0
METHOD:PUBLISH
BEGIN:VEVENT
UID:4320450:Event:48029
DTSTAMP:20260425T125923Z
SUMMARY:New Year’s Eve with Sublime with Rome
DESCRIPTION:Valley Forge Casino Resort (1160 First Avenue) presents Su
 blime with Rome on Saturday, Saturday, December 31, 2016 for a New Yea
 r’s Eve CHILL-ebration as part of Valley Forge Music Fair. The chart
 -topping Ska Punk band hopes to bring the love and passion of their fi
 rst two studio albums to their fans with this live tour stop. Showtime
  is 10:00pm, with doors opening at 9:00pm. General admission tickets a
 re $60 each and on sale now at Ticketmaster.com. Meet and Greet packag
 es as well as overnight stays are also available, for more information
  visit https://www.vfcasino.com\n\nFor more information visit http://p
 hillytodo.com/events/new-year-s-eve-with-sublime-with-rome
DTSTART:20170101T030000Z
DTEND:20170101T043000Z
CATEGORIES:concert
LOCATION:The Event Center
WEBSITE:https://www.vfcasino.com/events/sublime-with-rome/
URL:https://www.vfcasino.com/events/sublime-with-rome/
CONTACT:610-354-8222
ORGANIZER:Valley Forge Casino Resort
ATTACH;FMTTYPE="image/jpeg":http://storage.ning.com/topology/rest/1.0/
 file/get/3055001669?profile=original
ATTENDEE;ROLE=REQ-PARTICIPANT;PARTSTAT=ACCEPTED;RSVP=TRUE;CN="Aversa P
 R & Events":http://phillytodo.com/profile/KoryAversa277
END:VEVENT
END:VCALENDAR
