BEGIN:VCALENDAR
PRODID:NingEventWidget-v1
VERSION:2.0
METHOD:PUBLISH
BEGIN:VEVENT
UID:4320450:Event:39227
DTSTAMP:20260425T115353Z
SUMMARY:New Year's Eve Toast on the Coast
DESCRIPTION:Join us on New Year's Eve for a la Carte Dining all evenin
 g long, make your reservation today! In addition, we have two celebrat
 ion options at Positano Coast this New Year's Eve: The first option is
  our $100 Per Guest Premium Open Bar Package from 10:30 pm to 2:00 am.
  This option includes VIP Reserved Seating in Sopra Lounge as well as:
  DJ, Party Favors, Coat Check, Prosecco Bottle Toast at Midnight (for 
 every 4 guests), and Access to Servers & Private Bar. *VIP Package mus
 t be reserved ahead of time by calling the restaurant 215-238-0499. Th
 e second option is our $20 Cover Package. This Includes Cash Bar, DJ, 
 Party Favors, and Coat Check. Limited space is available for New Year'
 s Eve, entrance is not guaranteed. Fireworks are on Penn's Landing at 
 6pm and Midnight, which is within walking distance from Positano Coast
 . Dress to Impress! Please note, Positano Coast will open at 4pm on Ne
 w Year's Day. Also, Positano Coast will be closed for Lunch on New Yea
 r's Eve.\n\nFor more information visit http://phillytodo.com/events/ne
 w-year-s-eve-toast-on-the-coast
DTSTART:20150101T030000Z
DTEND:20150101T070000Z
CATEGORIES:new, "year's", eve, party
LOCATION:Old City
WEBSITE:http://www.positanocoast.net
URL:http://www.positanocoast.net
CONTACT:(215) 238-0499
ORGANIZER;CN="Positano Coast":http://phillytodo.com/profile/PositanoCo
 ast
ATTACH;FMTTYPE="image/jpeg":http://storage.ning.com/topology/rest/1.0/
 file/get/3054986121?profile=original
ATTENDEE;ROLE=REQ-PARTICIPANT;PARTSTAT=ACCEPTED;RSVP=TRUE;CN="Positano
  Coast":http://phillytodo.com/profile/PositanoCoast
END:VEVENT
END:VCALENDAR
