BEGIN:VCALENDAR
PRODID:NingEventWidget-v1
VERSION:2.0
METHOD:PUBLISH
BEGIN:VEVENT
UID:4320450:Event:39028
DTSTAMP:20260425T131002Z
SUMMARY:New Year's Eve Service: Advice for a Happy New Year
DESCRIPTION:Start the New Year off with a peaceful mind and a happy he
 art.  In this talk Gen Tenzin, a Buddhist monk and Resident Teacher o
 f Amitayus Kadampa Buddhist Center, will give practical teachings on c
 ompassion that we can use to cultivate happiness within our own mind a
 s well as in our relationships, families, and communities.  After the
  talk we will enjoy delicious desserts and sparkling wine.  Everyone 
 is welcome at this special New Year’s Eve event.\nWednesday, Decembe
 r 31st\n7:00-8:15pm\nBy donation.  Children are welcome.\n\nFor more 
 information visit http://phillytodo.com/events/new-year-s-eve-service-
 advice-for-a-happy-new-year
DTSTART:20150101T000000Z
DTEND:20150101T011500Z
CATEGORIES:meditation, buddhism, nye
LOCATION:Amitayus Kadampa Buddhist Center
WEBSITE:http://www.meditationinphiladelphia.org/candlelight-of-compass
 ion-puja-dessert-party-2/
URL:http://www.meditationinphiladelphia.org/candlelight-of-compassion-
 puja-dessert-party-2/
CONTACT:267-702-3817
ORGANIZER;CN="Education Program Coordinator":http://phillytodo.com/pro
 file/EducationProgramCoordinator
ATTACH;FMTTYPE="image/jpeg":http://storage.ning.com/topology/rest/1.0/
 file/get/3054982193?profile=original
ATTENDEE;ROLE=REQ-PARTICIPANT;PARTSTAT=ACCEPTED;RSVP=TRUE;CN="Educatio
 n Program Coordinator":http://phillytodo.com/profile/EducationProgramC
 oordinator
END:VEVENT
END:VCALENDAR
