BEGIN:VCALENDAR
PRODID:NingEventWidget-v1
VERSION:2.0
METHOD:PUBLISH
BEGIN:VEVENT
UID:4320450:Event:39160
DTSTAMP:20260425T130623Z
SUMMARY:New Year’s Eve Parties on Ice
DESCRIPTION:With two fireworks shows lighting up the sky over the Dela
 ware River on New Year’s Eve, there is twice the fun to be had at t
 he annual New Year’s Eve Parties on Ice at the Blue Cross RiverRink.
  The first party takes place on December 31, 2013, from 5 – 8 pm t
 o coincide with the 6 pm SugarHouse New Year’s Eve Fireworks on the
  Waterfront, with a second party from 10 pm – 1 am timed to enjoy th
 e traditional midnight fireworks. Both of these parties are great for 
 all ages and ideal for families.\n \nThe New Year’s Eve Parties on 
 Ice boast one of the best views of the city’s fireworks displays ov
 er the Delaware River.  The Party on Ice from 5 – 8 pm is perfect f
 or those who can’t stay awake until midnight and includes snacks, be
 verages, and New Year’s Eve party favors. This party also includes f
 ree face painting, crafts, strolling entertainment by Mummertime, and 
 the best place to view the 6 pm fireworks show. The Party on Ice from 
 10 pm – 1 am will include New Year’s party favors, photo keepsakes
 , and entertainment including psychic readers, strolling entertainment
  by Mummertime, and the best place to view the SugarHouse New Year’s
  Eve Fireworks on the Waterfront.\n\nFor more information visit http:/
 /phillytodo.com/events/new-year-s-eve-parties-on-ice
DTSTART:20141231T220000Z
DTEND:20150101T010000Z
CATEGORIES:new, "year's", eve, party, fireworks, ice, skating
LOCATION:Blue Cross RiverRink
WEBSITE:http://riverrink.ticketfly.com/event/718399-new-years-eve-blue
 -cross-philadelphia/
URL:http://riverrink.ticketfly.com/event/718399-new-years-eve-blue-cro
 ss-philadelphia/
CONTACT:215-925-RINK
ORGANIZER;CN="Delaware River Waterfront Corp.":http://phillytodo.com/p
 rofile/DelawareRiverWaterfrontCorp
ATTACH;FMTTYPE="image/jpeg":http://storage.ning.com/topology/rest/1.0/
 file/get/3054983899?profile=original
ATTENDEE;ROLE=REQ-PARTICIPANT;PARTSTAT=ACCEPTED;RSVP=TRUE;CN="Delaware
  River Waterfront Corp.":http://phillytodo.com/profile/DelawareRiverWa
 terfrontCorp
END:VEVENT
END:VCALENDAR
