BEGIN:VCALENDAR
PRODID:NingEventWidget-v1
VERSION:2.0
METHOD:PUBLISH
BEGIN:VEVENT
UID:4320450:Event:54308
DTSTAMP:20260425T123708Z
SUMMARY:TWISTED TAIL'S NEW YEAR’S EVE MASQUERADE PARTY
DESCRIPTION:Kickoff 2018 with a bang at The Twisted Tail’s Masquerad
 e Party on Dec. 31. Live music from the Mikey Junior Band starts at 9 
 p.m. followed by burlesque performances, a view of the fireworks at Pe
 nn’s Landing and a Champagne toast at midnight for both general admi
 ssion ($20 per person) and VIP tickets ($125 per person). VIP tickets 
 also include food and beverage, table service and reserved seating for
  the entire party.\nThe Twisted Tail is offering two dinner options on
  NYE. From 5 to 6 p.m., guests will enjoy a three-course meal for $55.
  Chef Leo Forneas has an extensive menu available for New Year’s cel
 ebrators from 6:15 to 10 p.m., the $85 cost includes the dinner and sh
 ow. Tickets available online: http://thetwistedtail.com/event-food/m
 asquerade-nye-party-2018/. Some of the menu items for NYE listed below
 :\n\nButterfly Shrimp Ceviche with Blood Orange Vinaigrette (photo bel
 ow)\nSalmon Almondine with sautéed spinach and capers\nSpicy Tuna “
 Pizza” on puff pastry with salmon roe\nYellowtail Tartare\nBraised P
 ork Belly with sous vide egg and frisée salad\n\n\nFor more informati
 on visit http://phillytodo.com/events/new-year-s-eve-at-the-twisted-ta
 il
DTSTART:20171231T220000Z
DTEND:20180101T070000Z
CATEGORIES:new, "year's", eve
LOCATION:The Twisted Tail
WEBSITE:http://thetwistedtail.com/event-food/masquerade-nye-party-2018
 /
URL:http://thetwistedtail.com/event-food/masquerade-nye-party-2018/
CONTACT:(215) 558-2471
ORGANIZER:Twisted Tail
ATTACH;FMTTYPE="image/jpeg":http://storage.ning.com/topology/rest/1.0/
 file/get/3055009908?profile=original
ATTENDEE;ROLE=REQ-PARTICIPANT;PARTSTAT=ACCEPTED;RSVP=TRUE;CN="Punch Me
 dia":http://phillytodo.com/profile/PunchMedia
END:VEVENT
END:VCALENDAR
